BEGIN:VCALENDAR
VERSION:2.0
PRODID:-//hacksw/handcal//NONSGML v1.0//EN
BEGIN:VEVENT
SUMMARY:BOUFFEMONT - DOUBLETTE PROMO
UID:0ff0076a-ed3a-4b10-9985-1f5e6360fb9c
DTSTART:20260828T220000Z
DTEND:20260829T220000Z
LOCATION:Localisation   
CATEGORIES:Sportif
STATUS:
URL;VALUE=URI:https://www.ffpjp-cd095.fr/evenements/2026/08/29/bouffemont-doublette-promo-2379428
END:VEVENT
END:VCALENDAR
