BEGIN:VCALENDAR
VERSION:2.0
PRODID:-//hacksw/handcal//NONSGML v1.0//EN
BEGIN:VEVENT
SUMMARY:BOUFFEMONT concours animation +55 ans 4 parties en doublettes
UID:0ecfddb3-a28b-48cb-a39d-f62d0b230a00
DTSTART:20260513T120000Z
DTEND:20260513T220000Z
LOCATION:Localisation   
CATEGORIES:Sportif
STATUS:
URL;VALUE=URI:https://www.ffpjp-cd095.fr/evenements/2026/05/13/bouffemont-concours-animation-55-ans-4-parties-en-doublettes-2379367
END:VEVENT
END:VCALENDAR
